BEGIN:VCALENDAR
VERSION:2.0
PRODID:-//Château de Gençay - ECPv6.15.20//NONSGML v1.0//EN
CALSCALE:GREGORIAN
METHOD:PUBLISH
X-ORIGINAL-URL:https://www.chateaugencay.fr
X-WR-CALDESC:Évènements pour Château de Gençay
REFRESH-INTERVAL;VALUE=DURATION:PT1H
X-Robots-Tag:noindex
X-PUBLISHED-TTL:PT1H
BEGIN:VTIMEZONE
TZID:Europe/Paris
BEGIN:DAYLIGHT
TZOFFSETFROM:+0100
TZOFFSETTO:+0200
TZNAME:CEST
DTSTART:20240331T010000
END:DAYLIGHT
BEGIN:STANDARD
TZOFFSETFROM:+0200
TZOFFSETTO:+0100
TZNAME:CET
DTSTART:20241027T010000
END:STANDARD
BEGIN:DAYLIGHT
TZOFFSETFROM:+0100
TZOFFSETTO:+0200
TZNAME:CEST
DTSTART:20250330T010000
END:DAYLIGHT
BEGIN:STANDARD
TZOFFSETFROM:+0200
TZOFFSETTO:+0100
TZNAME:CET
DTSTART:20251026T010000
END:STANDARD
BEGIN:DAYLIGHT
TZOFFSETFROM:+0100
TZOFFSETTO:+0200
TZNAME:CEST
DTSTART:20260329T010000
END:DAYLIGHT
BEGIN:STANDARD
TZOFFSETFROM:+0200
TZOFFSETTO:+0100
TZNAME:CET
DTSTART:20261025T010000
END:STANDARD
END:VTIMEZONE
BEGIN:VEVENT
DTSTART;TZID=Europe/Paris:20250524T140000
DTEND;TZID=Europe/Paris:20250524T180000
DTSTAMP:20260421T193349
CREATED:20250504T142146Z
LAST-MODIFIED:20250508T181129Z
UID:1708-1748095200-1748109600@www.chateaugencay.fr
SUMMARY:Cinéma & Château (version française)
DESCRIPTION:L’association Les amis du vieux château s’associe au Cinéma de Gençay ainsi qu’au salon de thé Christie’s. Au programme : une visite guidée\, un savoureux goûter partagé et la projection d’un film sur la période médiévale. \nProgramme : \n– visite guidée à 15h\, rdv sur l’esplanade du château\n– goûter à 16h\n– projection à 17h \nTarification de l’évènement : \n    5€ par adulte pour la visite guidée de la forteresse médiévale (espèces ou chèque). Gratuit pour les moins de 14 ans\n    6€ pour une place de cinéma\n    Tarif d’une consommation libre de choix au Christie’s. \nLes réservations sont obligatoires. Date limite des inscriptions fixée au 19 mai.. Merci de contacter Les amis du vieux château de Gençay via l’adresse mail contact@chateaugençay.fr ou de téléphoner à Mme Maury au 06 70 65 25 32.
URL:https://www.chateaugencay.fr/event/cinema-chateau/
LOCATION:Gençay\, Gençay\, 86160\, France
ATTACH;FMTTYPE=image/jpeg:https://www.chateaugencay.fr/wp-content/uploads/2024/09/IMG_20240928_173706.jpg
END:VEVENT
END:VCALENDAR